BEGIN:VCALENDAR
VERSION:2.0
PRODID:-//OmniMagnetCalendar//EN
BEGIN:VEVENT
DTSTAMP:20190625T195740Z
STATUS:CONFIRMED
UID:hcphoenix.clubs.harvard.edu332
DTSTART:20200228T010000Z
DTEND:20200228T030000Z
LOCATION:ASU SkySong (Room Synergy 1, SkySong Building 3), 1365 N. Scottsdale Road, Scottsdale, AZ, 85257,
SUMMARY:Presidential Scholar Book Discussion
DESCRIPTION:
BEGIN:VALARM
TRIGGER:-PT15M
ACTION:DISPLAY
END:VALARM
TRANSP:OPAQUE
END:VEVENT
END:VCALENDAR
