BEGIN:VCALENDAR
VERSION:2.0
PRODID:-//OmniMagnetCalendar//EN
BEGIN:VEVENT
DTSTAMP:20190625T195740Z
STATUS:CONFIRMED
UID:hcphoenix.clubs.harvard.edu330
DTSTART:20200126T023000Z
DTEND:20200126T044500Z
LOCATION:Taliesin West, 12621 N. Frank Lloyd Blvd., Scottsdale, AZ, 85259,
SUMMARY:Southwest Shakespeare Company presents Meg Jo Beth Amy & Louisa
DESCRIPTION:
BEGIN:VALARM
TRIGGER:-PT15M
ACTION:DISPLAY
END:VALARM
TRANSP:OPAQUE
END:VEVENT
END:VCALENDAR
