BEGIN:VCALENDAR
VERSION:2.0
PRODID:-//OmniMagnetCalendar//EN
BEGIN:VEVENT
DTSTAMP:20190625T195740Z
STATUS:CONFIRMED
UID:hcphoenix.clubs.harvard.edu329
DTSTART:20200112T010000Z
DTEND:20200112T030000Z
LOCATION:Arizona Science Center, 600 E Washington St, Phoenix, AZ, 85004,
SUMMARY:Downtown Visit with T Rex
DESCRIPTION:
BEGIN:VALARM
TRIGGER:-PT15M
ACTION:DISPLAY
END:VALARM
TRANSP:OPAQUE
END:VEVENT
END:VCALENDAR
