BEGIN:VCALENDAR
VERSION:2.0
PRODID:-//OmniMagnetCalendar//EN
BEGIN:VEVENT
DTSTAMP:20190625T195740Z
STATUS:CONFIRMED
UID:hcphoenix.clubs.harvard.edu325
DTSTART:20191108T010000Z
DTEND:20191108T023000Z
LOCATION:North of Tatum and Shea, 11010 North Tatum Boulevard, Phoenix, AZ, 85028,
SUMMARY:Stanford Phoenix Examines Trafficking Happening NOW
DESCRIPTION:
BEGIN:VALARM
TRIGGER:-PT15M
ACTION:DISPLAY
END:VALARM
TRANSP:OPAQUE
END:VEVENT
END:VCALENDAR
