BEGIN:VCALENDAR
VERSION:2.0
PRODID:-//OmniMagnetCalendar//EN
BEGIN:VEVENT
DTSTAMP:20190625T195740Z
STATUS:CONFIRMED
UID:hcphoenix.clubs.harvard.edu324
DTSTART:20191012T170000Z
DTEND:20191012T190000Z
LOCATION:Devonshire Senior Center, 2802 East Devonshire Avenue, Phoenix, AZ, 85016,
SUMMARY:Volunteer Opportunity:  Rumi Center Youth Career Expo
DESCRIPTION:
BEGIN:VALARM
TRIGGER:-PT15M
ACTION:DISPLAY
END:VALARM
TRANSP:OPAQUE
END:VEVENT
END:VCALENDAR
