BEGIN:VCALENDAR
VERSION:2.0
PRODID:-//OmniMagnetCalendar//EN
BEGIN:VEVENT
DTSTAMP:20190625T195740Z
STATUS:CONFIRMED
UID:hcphoenix.clubs.harvard.edu321
DTSTART:20191102T130000Z
DTEND:20191102T130000Z
LOCATION:St. Vincent de Paul AZ- Parking Lot, 2120 S. Third Drive, Phoenix, AZ, 85007, USA,
SUMMARY:Tour and Community Service at the Society of St. Vincent de Paul
DESCRIPTION:
BEGIN:VALARM
TRIGGER:-PT15M
ACTION:DISPLAY
END:VALARM
TRANSP:OPAQUE
END:VEVENT
END:VCALENDAR
