BEGIN:VCALENDAR
VERSION:2.0
PRODID:-//OmniMagnetCalendar//EN
BEGIN:VEVENT
DTSTAMP:20190625T195740Z
STATUS:CONFIRMED
UID:hcphoenix.clubs.harvard.edu320
DTSTART:20191017T010000Z
DTEND:20191017T033000Z
LOCATION:Gainey Ranch Golf Club, 7600 E Gainey Club Dr, Scottsdale, AZ, 85258,
SUMMARY:Alumni Network of Harvard Women Round Table
DESCRIPTION:
BEGIN:VALARM
TRIGGER:-PT15M
ACTION:DISPLAY
END:VALARM
TRANSP:OPAQUE
END:VEVENT
END:VCALENDAR
