BEGIN:VCALENDAR
VERSION:2.0
PRODID:-//OmniMagnetCalendar//EN
BEGIN:VEVENT
DTSTAMP:20190625T195740Z
STATUS:CONFIRMED
UID:hcphoenix.clubs.harvard.edu319
DTSTART:20191215T233000Z
DTEND:20191216T020000Z
LOCATION:Private home in Arcadia District, Scottsdale, AZ, 85281,
SUMMARY:Harvard Club of Phoenix Holiday Party
DESCRIPTION:
BEGIN:VALARM
TRIGGER:-PT15M
ACTION:DISPLAY
END:VALARM
TRANSP:OPAQUE
END:VEVENT
END:VCALENDAR
