BEGIN:VCALENDAR
VERSION:2.0
PRODID:-//OmniMagnetCalendar//EN
BEGIN:VEVENT
DTSTAMP:20190625T195740Z
STATUS:CONFIRMED
UID:hcphoenix.clubs.harvard.edu317
DTSTART:20191123T170000Z
DTEND:20191123T200000Z
LOCATION:Zipps, 3647 E Indian School Rd, Phoenix, AZ, 85018, USA,
SUMMARY:Phoenix:  The Game
DESCRIPTION:
BEGIN:VALARM
TRIGGER:-PT15M
ACTION:DISPLAY
END:VALARM
TRANSP:OPAQUE
END:VEVENT
END:VCALENDAR
