BEGIN:VCALENDAR
VERSION:2.0
PRODID:-//OmniMagnetCalendar//EN
BEGIN:VEVENT
DTSTAMP:20190625T195740Z
STATUS:CONFIRMED
UID:hcphoenix.clubs.harvard.edu312
DTSTART:20190928T020000Z
DTEND:20190928T033000Z
LOCATION:UBS Hall, 4800 N Scottsdale Road , Scottsdale, AZ, 85251,
SUMMARY:Water Forum:  Cleaning up Phoenix's Water
DESCRIPTION:
BEGIN:VALARM
TRIGGER:-PT15M
ACTION:DISPLAY
END:VALARM
TRANSP:OPAQUE
END:VEVENT
END:VCALENDAR
