BEGIN:VCALENDAR
VERSION:2.0
PRODID:-//OmniMagnetCalendar//EN
BEGIN:VEVENT
DTSTAMP:20190625T195740Z
STATUS:CONFIRMED
UID:hcphoenix.clubs.harvard.edu307
DTSTART:20190508T170000Z
DTEND:20190508T200000Z
LOCATION:The Heard Museum, 2301 N. Central Avenue, Phoenix, AZ, 85004,
SUMMARY:President of Harvard University Speaks at the Heard Museum
DESCRIPTION:
BEGIN:VALARM
TRIGGER:-PT15M
ACTION:DISPLAY
END:VALARM
TRANSP:OPAQUE
END:VEVENT
END:VCALENDAR
