BEGIN:VCALENDAR
VERSION:2.0
PRODID:-//OmniMagnetCalendar//EN
BEGIN:VEVENT
DTSTAMP:20190625T195740Z
STATUS:CONFIRMED
UID:hcphoenix.clubs.harvard.edu306
DTSTART:20190517T170000Z
DTEND:20190517T200000Z
LOCATION:Phoenix Country Club, 2901 N 7th Street, Phoenix, AZ, 85014,
SUMMARY:Mayor Kate Gallego and the Harvard Club Annual Dinner - 2019
DESCRIPTION:
BEGIN:VALARM
TRIGGER:-PT15M
ACTION:DISPLAY
END:VALARM
TRANSP:OPAQUE
END:VEVENT
END:VCALENDAR
