BEGIN:VCALENDAR
VERSION:2.0
PRODID:-//OmniMagnetCalendar//EN
BEGIN:VEVENT
DTSTAMP:20190625T195740Z
STATUS:CONFIRMED
UID:hcphoenix.clubs.harvard.edu305
DTSTART:20190403T163000Z
DTEND:20190403T183000Z
LOCATION:MATCH Restaurant & Lounge - Inside the FOUND:RE Hotel , 1100 N Central Ave, Phoenix, AZ, 85003,
SUMMARY:Joint Harvard Happy Hour with HBS
DESCRIPTION:
BEGIN:VALARM
TRIGGER:-PT15M
ACTION:DISPLAY
END:VALARM
TRANSP:OPAQUE
END:VEVENT
END:VCALENDAR
