BEGIN:VCALENDAR
VERSION:2.0
PRODID:-//OmniMagnetCalendar//EN
BEGIN:VEVENT
DTSTAMP:20190625T195740Z
STATUS:CONFIRMED
UID:hcphoenix.clubs.harvard.edu298
DTSTART:20181113T180000Z
DTEND:20181113T210000Z
LOCATION:Arizona Capitol Mueum (The Rotunda), 1700 W Washington, Phoenix, AZ, 85007,
SUMMARY:Post Midterm Election Analysis
DESCRIPTION:
BEGIN:VALARM
TRIGGER:-PT15M
ACTION:DISPLAY
END:VALARM
TRANSP:OPAQUE
END:VEVENT
END:VCALENDAR
