BEGIN:VCALENDAR
VERSION:2.0
PRODID:-//OmniMagnetCalendar//EN
BEGIN:VEVENT
DTSTAMP:20190625T195740Z
STATUS:CONFIRMED
UID:hcphoenix.clubs.harvard.edu295
DTSTART:20190109T163000Z
DTEND:20190109T200000Z
LOCATION:R Bar at Rita's Grill, 5402 E. Lincoln Blvd, Scottsdale, AZ, 85253,
SUMMARY:Global Networking Night
DESCRIPTION:
BEGIN:VALARM
TRIGGER:-PT15M
ACTION:DISPLAY
END:VALARM
TRANSP:OPAQUE
END:VEVENT
END:VCALENDAR
