BEGIN:VCALENDAR
VERSION:2.0
PRODID:-//OmniMagnetCalendar//EN
BEGIN:VEVENT
DTSTAMP:20190625T195740Z
STATUS:CONFIRMED
UID:hcphoenix.clubs.harvard.edu294
DTSTART:20181117T100000Z
DTEND:20181117T130000Z
LOCATION:Zipps, 3647 E Indian School Rd, Phoenix, AZ, 85018, USA,
SUMMARY:The Game 2018 - Harvard vs Yale at Fenway Park!
DESCRIPTION:
BEGIN:VALARM
TRIGGER:-PT15M
ACTION:DISPLAY
END:VALARM
TRANSP:OPAQUE
END:VEVENT
END:VCALENDAR
