BEGIN:VCALENDAR
VERSION:2.0
PRODID:-//OmniMagnetCalendar//EN
BEGIN:VEVENT
DTSTAMP:20190625T195740Z
STATUS:CONFIRMED
UID:hcphoenix.clubs.harvard.edu288
DTSTART:20181107T173000Z
DTEND:20181107T193000Z
LOCATION:MATCH Restaurant & Lounge - Inside the FOUND:RE Hotel, 1100 N Central Ave, Phoenix, AZ, 85003,
SUMMARY:Harvard Happy Hour
DESCRIPTION:
BEGIN:VALARM
TRIGGER:-PT15M
ACTION:DISPLAY
END:VALARM
TRANSP:OPAQUE
END:VEVENT
END:VCALENDAR
